BEGIN:VCALENDAR
PRODID:NingEventWidget-v1
VERSION:2.0
METHOD:PUBLISH
BEGIN:VEVENT
UID:5021591:Event:2102
DTSTAMP:20260423T042950Z
SUMMARY:Jack Quinn's Running Club
DESCRIPTION:A really fun group run that begins at Jack Quinn's, 21 S. 
 Tejon St., at 6 p.m.\n\nFor more information visit http://pikespeakspo
 rts.us/events/jack-quinns-running-club-5
DTSTART:20100407T000000Z
DTEND:20100407T010000Z
CATEGORIES:group, run
LOCATION:Starts and ends at Jack Quinn's
WEBSITE:http://www.jackquinnsrunners.com/index.php
URL:http://www.jackquinnsrunners.com/index.php
CONTACT:385-0766
ORGANIZER;CN="Pikes Peak Sports":http://pikespeaksports.us/profile/Pik
 esPeakSports
ATTACH;FMTTYPE="image/jpeg":http://storage.ning.com/topology/rest/1.0/
 file/get/2842531390?profile=original
ATTENDEE;ROLE=REQ-PARTICIPANT;PARTSTAT=ACCEPTED;RSVP=TRUE;CN="Katie Be
 nzel":http://pikespeaksports.us/profile/KatieSchwing
ATTENDEE;ROLE=REQ-PARTICIPANT;PARTSTAT=ACCEPTED;RSVP=TRUE;CN="Pikes Pe
 ak Sports":http://pikespeaksports.us/profile/PikesPeakSports
END:VEVENT
END:VCALENDAR
