BEGIN:VCALENDAR
PRODID:NingEventWidget-v1
VERSION:2.0
METHOD:PUBLISH
BEGIN:VEVENT
UID:5021591:Event:853
DTSTAMP:20260423T234804Z
SUMMARY:Jack Quinn's Running Club
DESCRIPTION:Jack Quinn's running club has over 11,000 members with 758
  showing up for the last run on 3/16/2010. Join them this Tuesday even
 ing at 6:00pm for a great run with a bunch of great people.\n\nFree ap
 petizer and $2.50 Odell Pints every Tuesday.\n\nFor more information v
 isit http://pikespeaksports.us/events/jack-quinns-running-club-4
DTSTART:20100324T000000Z
DTEND:20100324T010000Z
CATEGORIES:running
LOCATION:Jack Quinn's Pub
WEBSITE:http://www.jackquinnsrunners.com
URL:http://www.jackquinnsrunners.com
CONTACT:
ORGANIZER:
ATTACH;FMTTYPE="image/jpeg":
ATTENDEE;ROLE=REQ-PARTICIPANT;PARTSTAT=ACCEPTED;RSVP=TRUE;CN="Brian Mc
 Carrie":http://pikespeaksports.us/profile/virtualbrian
END:VEVENT
END:VCALENDAR
