BEGIN:VCALENDAR
PRODID:NingEventWidget-v1
VERSION:2.0
METHOD:PUBLISH
BEGIN:VEVENT
UID:5021591:Event:556
DTSTAMP:20260424T081105Z
SUMMARY:Jack Quinn's Running Club
DESCRIPTION:Join hundreds of local runners for the Jack Quinn's tuesda
 y night run. Run 3.1 miles then hang out for appetizers and maybe have
  a beer.\n\nFor more information visit http://pikespeaksports.us/event
 s/jack-quinns-running-club-3
DTSTART:20100310T003000Z
DTEND:20100310T020000Z
CATEGORIES:running
LOCATION:Jack Quinn's Pub
WEBSITE:http://www.jackquinnsrunners.com
URL:http://www.jackquinnsrunners.com
CONTACT:
ORGANIZER:
ATTACH;FMTTYPE="image/jpeg":
ATTENDEE;ROLE=REQ-PARTICIPANT;PARTSTAT=ACCEPTED;RSVP=TRUE;CN="Brian Mc
 Carrie":http://pikespeaksports.us/profile/virtualbrian
END:VEVENT
END:VCALENDAR
