BEGIN:VCALENDAR
PRODID:NingEventWidget-v1
VERSION:2.0
METHOD:PUBLISH
BEGIN:VEVENT
UID:5021591:Event:358
DTSTAMP:20260424T120651Z
SUMMARY:Jack Quinn's Running Club
DESCRIPTION:Jack Quinn's Running Club Tuesday night 5k run.\n\nFor mor
 e information visit http://pikespeaksports.us/events/jack-quinns-runni
 ng-club-2
DTSTART:20100303T010000Z
DTEND:20100303T020000Z
CATEGORIES:running
LOCATION:Jack Quinn's Pub
WEBSITE:http://www.jackquinnsrunners.com
URL:http://www.jackquinnsrunners.com
CONTACT:
ORGANIZER:
ATTACH;FMTTYPE="image/jpeg":http://storage.ning.com/topology/rest/1.0/
 file/get/2842523830?profile=original
ATTENDEE;ROLE=REQ-PARTICIPANT;PARTSTAT=ACCEPTED;RSVP=TRUE;CN="Brian Mc
 Carrie":http://pikespeaksports.us/profile/virtualbrian
END:VEVENT
END:VCALENDAR
