BEGIN:VCALENDAR
PRODID:NingEventWidget-v1
VERSION:2.0
METHOD:PUBLISH
BEGIN:VEVENT
UID:5021591:Event:214
DTSTAMP:20260424T142024Z
SUMMARY:Jack Quinn's running club
DESCRIPTION:3 mile group run. Every Tuesday evening at 6:00pm\n\nFor m
 ore information visit http://pikespeaksports.us/events/jack-quinns-run
 ning-club-1
DTSTART:20100224T010000Z
DTEND:20100224T020000Z
CATEGORIES:running
LOCATION:Jack Quinn's pub
WEBSITE:http://www.jackquinnsrunners.com
URL:http://www.jackquinnsrunners.com
CONTACT:
ORGANIZER;CN="Brian McCarrie":http://pikespeaksports.us/profile/virtua
 lbrian
ATTACH;FMTTYPE="image/jpeg":
ATTENDEE;ROLE=REQ-PARTICIPANT;PARTSTAT=ACCEPTED;RSVP=TRUE;CN="Brian Mc
 Carrie":http://pikespeaksports.us/profile/virtualbrian
END:VEVENT
END:VCALENDAR
