BEGIN:VCALENDAR
PRODID:NingEventWidget-v1
VERSION:2.0
METHOD:PUBLISH
BEGIN:VEVENT
UID:5021591:Event:2635
DTSTAMP:20260421T134000Z
SUMMARY:Intervals, Intensity & Adaptation for Triathletes
DESCRIPTION:PPTC is hosting a clinic by Alan Ley - a USAT Level III El
 itie Coach and the International Triathlon Union (ITU) Sport Developme
 nt Manager. Even though this is a intermediate/advanced topic, don't b
 e intimidated by the \"intermediate to advanced\" label. Alan has a gi
 ft of presenting more advanced informaton in such a way that everyone 
 can understand. It would be benidficial to almost any triathlete in ou
 r community. So spread the word.\nRSVP to Steve Vaughan at Steve@TriFo
 rMS.org or 719-531-7076 so we can be sure we have enough chairs for ev
 eryone.\n\nFor more information visit http://pikespeaksports.us/events
 /intervals-intensity
DTSTART:20100429T003000Z
DTEND:20100429T020000Z
CATEGORIES:triathlon, clinic
LOCATION:Bicycle Village
WEBSITE:http://www.bicyclevillage.com
URL:http://www.bicyclevillage.com
CONTACT:
ORGANIZER:Nicole Drummer/Pikes Peak Triathlon Club
ATTACH;FMTTYPE="image/jpeg":http://storage.ning.com/topology/rest/1.0/
 file/get/2842531770?profile=original
ATTENDEE;ROLE=REQ-PARTICIPANT;PARTSTAT=ACCEPTED;RSVP=TRUE;CN="Cory Mor
 lock":http://pikespeaksports.us/profile/CoryMorlock
ATTENDEE;ROLE=REQ-PARTICIPANT;PARTSTAT=ACCEPTED;RSVP=TRUE;CN="Nicole O
 dell":http://pikespeaksports.us/profile/NicoleDrummer
END:VEVENT
END:VCALENDAR
