BEGIN:VCALENDAR
PRODID:NingEventWidget-v1
VERSION:2.0
METHOD:PUBLISH
BEGIN:VEVENT
UID:5021591:Event:1959
DTSTAMP:20260422T101806Z
SUMMARY:Happy Hour for the Nation's Tri
DESCRIPTION:You always thought about doing a triathlon or maybe you al
 ready have, but now you want to experience one of the top triathlons i
 n the US. Join Team In Training as one of the athletes from 847 cities
 , 45 states and 12 countries who are already signed up for The 5th Ann
 ual Nation's Triathlon.\n\nNEW in 2010 - discounted fundraising minimu
 m that is more then $1500 off last years minimum!\n\nThe Nation's Tria
 thlon Preview Happy Hour! Join members of the Rocky Mountain Team In T
 raining staff for a happy hour event to learn more about Team In Train
 ing and the Nation's Triathlon while socializing with other triathlete
 s and enjoying a savory selection of appetizers and cocktails. Come jo
 in the fun, enter to win great door prizes and take home a goodie bag!
 \n\nThe Nation's Triathlon to Benefit The Leukemia & Lymphoma Society 
 is a truly memorable triathlon experience. From its one-of-a-kind cour
 se route that winds through Washington, DC´s monument corridor in the
  shadow of the nation´s best known memorials and national treasures, 
 to its extra-large transition area, fast course design and athlete fri
 endly attitude. This race is great for new triathletes and seasoned ve
 terans alike. This Olympic distance triathlon includes a 1.5k swim in 
 the Potomac River, 40k bike course through DC, and a 10k run through W
 ashington, DC´s historical landmarks with a spectacular finish. \"The
  Nation's Triathlon was named as one of the Ten Best Urban Races by Tr
 iathlete Magazine.\" (March 2010 issue)\n\n*Guaranteed race entry with
  Team In Training*\nEntry is free to the preview party and open to any
 one interested in experiencing this amazing triathlon, but due to limi
 ted space RSVP is required.\n\nPlease confirm attendance via email to 
 kristina.beebe@lls.org, phone 303.984.2110 ext. 37\n\nFor more informa
 tion visit http://pikespeaksports.us/events/happy-hour-for-the-nations
 -tri
DTSTART:20100417T000000Z
DTEND:20100417T020000Z
CATEGORIES:informational, happy, hour
LOCATION:The Warehouse
WEBSITE:http://www.thewarehouserestaurant.com
URL:http://www.thewarehouserestaurant.com
CONTACT:
ORGANIZER;CN="Nicole Odell":http://pikespeaksports.us/profile/NicoleDr
 ummer
ATTACH;FMTTYPE="image/jpeg":http://storage.ning.com/topology/rest/1.0/
 file/get/2842526915?profile=original
ATTENDEE;ROLE=REQ-PARTICIPANT;PARTSTAT=ACCEPTED;RSVP=TRUE;CN="Nicole O
 dell":http://pikespeaksports.us/profile/NicoleDrummer
END:VEVENT
END:VCALENDAR
