BEGIN:VCALENDAR
PRODID:NingEventWidget-v1
VERSION:2.0
METHOD:PUBLISH
BEGIN:VEVENT
UID:5021591:Event:3573
DTSTAMP:20260421T094248Z
SUMMARY:Greenland Trail 50K, 25K and 8-mile
DESCRIPTION:The race has reached capacity. Registration is now closed.
 \nPlease click here to check your registration status and see who is r
 unning.\nThe Greenland Trail 50K is a trail race located on the front 
 range of Colorado . It was started with the intent to kick off the tra
 il running season by offering a variety of distances to suit your runn
 ing needs. Run in the Greenland Open Space of southern Douglas County 
 , the Greenland Trail 50K strives to be the premier 50K in Colorado.\n
 Course maps\nDirections:\nGreenland Open Space is located four miles s
 outh of Larkspur (10 miles south of Castle Rock) and six miles north o
 f Monument (20 miles north of Colorado Springs). Take 1-25 to exit 167
 , travel west 1/4 mile and then south 1/2 mile to the Greenland trailh
 ead. There is limited parking at this parking lot. Overflow parking is
  located just over the railroad tracks at the Spruce Mountain parking 
 area. Click here for a map of parking areas.\nPlease Carpool:\nWe enco
 urage carpooling. We are directing runners to the website RideShare.us
  to find other runners to carpool with. If more people carpool, then w
 e can allow more runners into the race! Please follow the directions o
 f the professional parking management crew when you arrive at the race
 .\n\nFor more information visit http://pikespeaksports.us/events/green
 land-trail-50k-25k-and
DTSTART:20100501T140000Z
DTEND:20100501T200000Z
CATEGORIES:running, event
LOCATION:I-25 and Exit 167
WEBSITE:http://www.greenland50k.com/index.html
URL:http://www.greenland50k.com/index.html
CONTACT:
ORGANIZER:Colorado Runner
ATTACH;FMTTYPE="image/jpeg":
ATTENDEE;ROLE=REQ-PARTICIPANT;PARTSTAT=ACCEPTED;RSVP=TRUE;CN="Tim Berg
 sten":http://pikespeaksports.us/profile/TimBergsten
END:VEVENT
END:VCALENDAR
