BEGIN:VCALENDAR
PRODID:NingEventWidget-v1
VERSION:2.0
METHOD:PUBLISH
BEGIN:VEVENT
UID:5021591:Event:5131
DTSTAMP:20260422T055108Z
SUMMARY:Green Drinks with Colorado Springs Bike Month +
DESCRIPTION:Plan to stop by Old Town Bike Shop from 6-8 p.m. on Thursd
 ay for the Bike Month+ Green Drinks event. There will be Bristol beer 
 and wine donated from Old Town and food by McCabes! John Crandall, the
  owner of Old Town has allowed us to use his space to promote Bike Mon
 th and our upcoming events.\n\nFor more information visit http://pikes
 peaksports.us/events/green-drinks-with-colorado
DTSTART:20100521T000000Z
DTEND:20100521T020000Z
CATEGORIES:social, "mixer/promotional", event
LOCATION:Old Town Bike Shop
WEBSITE:http://www.springsbikemonth.com/index.html
URL:http://www.springsbikemonth.com/index.html
CONTACT:
ORGANIZER;CN="Pikes Peak Sports":http://pikespeaksports.us/profile/Pik
 esPeakSports
ATTACH;FMTTYPE="image/jpeg":http://storage.ning.com/topology/rest/1.0/
 file/get/2656393412?profile=original
ATTENDEE;ROLE=REQ-PARTICIPANT;PARTSTAT=ACCEPTED;RSVP=TRUE;CN="Terry Mo
 ntgomery":http://pikespeaksports.us/profile/TerryMontgomery
ATTENDEE;ROLE=REQ-PARTICIPANT;PARTSTAT=ACCEPTED;RSVP=TRUE;CN="Dave Ada
 ir":http://pikespeaksports.us/profile/DaveAdair
ATTENDEE;ROLE=REQ-PARTICIPANT;PARTSTAT=ACCEPTED;RSVP=TRUE;CN="Aaron St
 unkard":http://pikespeaksports.us/profile/AaronStunkard
ATTENDEE;ROLE=REQ-PARTICIPANT;PARTSTAT=ACCEPTED;RSVP=TRUE;CN="Pikes Pe
 ak Sports":http://pikespeaksports.us/profile/PikesPeakSports
END:VEVENT
END:VCALENDAR
