BEGIN:VCALENDAR
PRODID:NingEventWidget-v1
VERSION:2.0
METHOD:PUBLISH
BEGIN:VEVENT
UID:5021591:Event:843225
DTSTAMP:20260422T193917Z
SUMMARY:Girls On The Run 5K
DESCRIPTION:Run, hop, or skip alongside our girls at one of our amazi
 ng Southern Colorado 5K at Monument Valley Park.  Girls on the Run 5K
 s are a celebration like no other where all girls celebrate themselves
  and one another as they cross the finish line.\nGirls on the Run fami
 lies, please make sure this is the correct event for your team: http
 ://girlsontherunrockies.org/our-program/locations/.  All Girls on the
  Run participants and coaches are already registered.\n\nFor more info
 rmation visit http://pikespeaksports.us/events/girls-on-the-run-5k
DTSTART:20191109T150000Z
DTEND:20191109T190000Z
CATEGORIES:5k
LOCATION:Monument Valley Park North
WEBSITE:http://girlsontherunrockies.org/5k/
URL:http://girlsontherunrockies.org/5k/
CONTACT:7193062330
ORGANIZER;CN=Pharis:http://pikespeaksports.us/profile/Pharis645
ATTACH;FMTTYPE="image/jpeg":https://storage.ning.com/topology/rest/1.0
 /file/get/3592053468?profile=original
ATTENDEE;ROLE=REQ-PARTICIPANT;PARTSTAT=ACCEPTED;RSVP=TRUE;CN=Pharis:ht
 tp://pikespeaksports.us/profile/Pharis645
END:VEVENT
END:VCALENDAR
