BEGIN:VCALENDAR
PRODID:NingEventWidget-v1
VERSION:2.0
METHOD:PUBLISH
BEGIN:VEVENT
UID:5021591:Event:886400
DTSTAMP:20260422T113136Z
SUMMARY:Girls on the Run 5k
DESCRIPTION:Run, hop, or skip alongside our girls at one of our amazin
 g 5Ks. Girls on the Run 5Ks are a celebration like no other where all 
 girls celebrate themselves and one another as they cross the finish li
 ne. Come celebrate the end of the season with Girls on the Run. This i
 s a rain or shine (or snow!) event. Please dress appropriately for the
  weather. For the latest updates from Girls on the Run, follow us on 
 Instagram at instagram.com/girlsontherunrockies or on Facebook at h
 ttps://www.facebook.com/girlsontherunoftherockies \n\nFor more inform
 ation visit http://pikespeaksports.us/events/girls-on-the-run-5k-1
DTSTART:20221119T160000Z
DTEND:20221119T190000Z
CATEGORIES:5k, run
LOCATION:Monument Valley Park North
WEBSITE:https://girlsontherunrockies.org/events-new/girls-on-the-run-5
 k-colorado-springs-fall-2022/
URL:https://girlsontherunrockies.org/events-new/girls-on-the-run-5k-co
 lorado-springs-fall-2022/
CONTACT:17193062330
ORGANIZER;CN=Pharis:http://pikespeaksports.us/profile/Pharis645
ATTACH;FMTTYPE="image/jpeg":https://storage.ning.com/topology/rest/1.0
 /file/get/10847061858?profile=original
ATTENDEE;ROLE=REQ-PARTICIPANT;PARTSTAT=ACCEPTED;RSVP=TRUE;CN=Pharis:ht
 tp://pikespeaksports.us/profile/Pharis645
END:VEVENT
END:VCALENDAR
