BEGIN:VCALENDAR
PRODID:NingEventWidget-v1
VERSION:2.0
METHOD:PUBLISH
BEGIN:VEVENT
UID:5021591:Event:2243
DTSTAMP:20260423T030705Z
SUMMARY:Garden of the Gods Training run
DESCRIPTION:We split into several groups based on ability. Each group 
 runs together (or at least starts together) at a pace that is generall
 y within the ability of the group members. The group lead can decide t
 he route and any other training features, e.g., intervals, etc. Workou
 ts last about an hour (give or take a few minutes). Routes vary from w
 orkout to workout, and are usually within the confines of the Garden o
 f the Gods Park, although sometimes a group will explore neighborhoods
  and trails that are adjacent to the park.\n\nFor more information vis
 it http://pikespeaksports.us/events/garden-of-the-gods-training-1
DTSTART:20100408T120000Z
DTEND:20100409T010000Z
CATEGORIES:training, run
LOCATION:Garden of the Gods
WEBSITE:http://pprrun.org/docs/2010_Garden_Training_Runs.htm
URL:http://pprrun.org/docs/2010_Garden_Training_Runs.htm
CONTACT:
ORGANIZER:
ATTACH;FMTTYPE="image/jpeg":http://storage.ning.com/topology/rest/1.0/
 file/get/2842523830?profile=original
ATTENDEE;ROLE=REQ-PARTICIPANT;PARTSTAT=ACCEPTED;RSVP=TRUE;CN="Brian Mc
 Carrie":http://pikespeaksports.us/profile/virtualbrian
END:VEVENT
END:VCALENDAR
