BEGIN:VCALENDAR
PRODID:NingEventWidget-v1
VERSION:2.0
METHOD:PUBLISH
BEGIN:VEVENT
UID:5021591:Event:845881
DTSTAMP:20260422T101214Z
SUMMARY:Garden of the Gods 10 Mile & 10K Run
DESCRIPTION:Beautiful scenery, challenging race course, cool people, a
 nd a great runners' party at the finish line. The Garden of the Gods 1
 0 Mile & 10K Run is the race you've been looking for.\r\nNow in it's 4
 4th year, the race supports the Garden of the Gods Foundation and Rock
  Ledge Ranch.\n\nFor more information visit http://pikespeaksports.us/
 events/garden-of-the-gods-10-mile-10k-run-2
DTSTART:20200614T130000Z
DTEND:20200614T180000Z
CATEGORIES:running, race
LOCATION:Garden of the Gods
WEBSITE:https://runsignup.com/Race/CO/ColoradoSprings/GardenoftheGods1
 0Mile10KRun
URL:https://runsignup.com/Race/CO/ColoradoSprings/GardenoftheGods10Mil
 e10KRun
CONTACT:7199631747
ORGANIZER;CN="Tim Bergsten":http://pikespeaksports.us/profile/TimBergs
 ten
ATTACH;FMTTYPE="image/jpeg":https://storage.ning.com/topology/rest/1.0
 /file/get/3936695157?profile=original
ATTENDEE;ROLE=REQ-PARTICIPANT;PARTSTAT=ACCEPTED;RSVP=TRUE;CN="Tim Berg
 sten":http://pikespeaksports.us/profile/TimBergsten
END:VEVENT
END:VCALENDAR
