BEGIN:VCALENDAR
PRODID:NingEventWidget-v1
VERSION:2.0
METHOD:PUBLISH
BEGIN:VEVENT
UID:5021591:Event:1234
DTSTAMP:20260423T141611Z
SUMMARY:Gand Canyon Slideshow
DESCRIPTION:Rafting veteran Vince Cloward will be showing a multimedia
  presentation: \"The Big Ditch: Rafting in the Grand Canyon.\" The pro
 gram will include wildlife and scenic photography, along with video cl
 ips and stories from his 16-day trip. Vince is the program director of
  the Trails and Open Space Coalition and is dedicated to the conservat
 ion of lands and waters throughout the west.\n\nFor more information v
 isit http://pikespeaksports.us/events/gand-canyon-slideshow
DTSTART:20100401T010000Z
DTEND:20100401T020000Z
CATEGORIES:slide, show
LOCATION:Mountain Chalet
WEBSITE:http://www.mtnchalet.com/
URL:http://www.mtnchalet.com/
CONTACT:
ORGANIZER:
ATTACH;FMTTYPE="image/jpeg":http://storage.ning.com/topology/rest/1.0/
 file/get/2842526097?profile=original
ATTENDEE;ROLE=REQ-PARTICIPANT;PARTSTAT=ACCEPTED;RSVP=TRUE;CN="Brian Mc
 Carrie":http://pikespeaksports.us/profile/virtualbrian
END:VEVENT
END:VCALENDAR
