BEGIN:VCALENDAR
PRODID:NingEventWidget-v1
VERSION:2.0
METHOD:PUBLISH
BEGIN:VEVENT
UID:5021591:Event:526193
DTSTAMP:20260424T032443Z
SUMMARY:Full Moon Run
DESCRIPTION:This month's Full Moon run will take place in Manitou. Com
 e out for an easy run of varying distances beneath the full moon.\n\nF
 or more information visit http://pikespeaksports.us/events/full-moon-r
 un-4
DTSTART:20140126T020000Z
DTEND:20140126T040000Z
CATEGORIES:full, moon, run
LOCATION:Manitou Springs
WEBSITE:http://www.pprrun.org/events/FullMoonRun/
URL:http://www.pprrun.org/events/FullMoonRun/
CONTACT:
ORGANIZER:Pikes Peak Road Runners
ATTACH;FMTTYPE="image/jpeg":
ATTENDEE;ROLE=REQ-PARTICIPANT;PARTSTAT=ACCEPTED;RSVP=TRUE;CN="Pikes Pe
 ak Sports":http://pikespeaksports.us/profile/PikesPeakSports
ATTENDEE;ROLE=REQ-PARTICIPANT;PARTSTAT=TENTATIVE;RSVP=TRUE;CN="Monica 
 Douglass":http://pikespeaksports.us/profile/MonicaDouglass
END:VEVENT
END:VCALENDAR
