BEGIN:VCALENDAR
PRODID:NingEventWidget-v1
VERSION:2.0
METHOD:PUBLISH
BEGIN:VEVENT
UID:5021591:Event:369
DTSTAMP:20260421T151355Z
SUMMARY:Fruita Fat Tire Festival
DESCRIPTION:15th Anniversary ~ New Belgium Brewing ~ Fruita Fat Tire F
 estival. the celebration of another great season of Fruita Singletrack
  Mountainbiking. Hundreds of miles of world class mountain bike trails
  across the high desert and red rock canyon country of western Colorad
 o. Lets ride with friends form all over the world and the shop that la
 unched a MTB revolution - Over the Edge Sports - Great riding, legenda
 ry parties and live bands every evening in downtown Fruita!\nApril 29-
 May 2, 2010 under the spring sunshine in Fruita Colorado USA\n\nFor mo
 re information visit http://pikespeaksports.us/events/fruita-fat-tire-
 festival
DTSTART:20100430T000000Z
DTEND:20100503T010000Z
CATEGORIES:mountain, biking, festival
LOCATION:Fruita, Colorado
WEBSITE:http://www.fruitamountainbike.com/
URL:http://www.fruitamountainbike.com/
CONTACT:
ORGANIZER:
ATTACH;FMTTYPE="image/jpeg":http://storage.ning.com/topology/rest/1.0/
 file/get/2842524139?profile=original
ATTENDEE;ROLE=REQ-PARTICIPANT;PARTSTAT=ACCEPTED;RSVP=TRUE;CN="Terry Mo
 ntgomery":http://pikespeaksports.us/profile/TerryMontgomery
ATTENDEE;ROLE=REQ-PARTICIPANT;PARTSTAT=ACCEPTED;RSVP=TRUE;CN="Brian Mc
 Carrie":http://pikespeaksports.us/profile/virtualbrian
END:VEVENT
END:VCALENDAR
