BEGIN:VCALENDAR
PRODID:NingEventWidget-v1
VERSION:2.0
METHOD:PUBLISH
BEGIN:VEVENT
UID:5021591:Event:19721
DTSTAMP:20260423T112716Z
SUMMARY:Front Range Cyclist Bicycle Pavillion at the COS \"What If??\"
  Festival!
DESCRIPTION:Bicycles. A very simple innovation created over a 100 year
 s ago, yet it's efficiency and applications continue to grow by leaps 
 and bound every year. Whether it's the latest lightweight Tour de Fran
 ce bike, cutting edge suspension design, or just to get around there a
 re limitless.......and very creative....innovations in cycling going o
 n each day. Whether it be the bicycle itself, the rider's training, or
  the clothing they wear.\n\nFront Range Cyclist is happy to announce t
 hat we've been asked to put together the first ever \"Bicycle Innovati
 on and Imagination\" expo outside (a first in Colorado Springs for a b
 ike expo) in Downtown Colorado Springs at the Colorado Springs \"What 
 If?\" Innovation Festival Sept 11th.\n\n20,000-30,000 attendees are ex
 pected from around the state.\n\nOver 6 city blocks will feature a var
 iety of innovations from local businesses, inventors, artists, tinkere
 rs, and the next generation. We're very excited to be the ones picked 
 to organize the bicycle exposition of this event! We'll also have spec
 ial guests, Colorado Springs Cruisers, leading off a cruiser ride at 1
 pm that day. Other special events in the works!\n\nEvent cost: Free to
  the Public\n\nBooth space at Bicycle Expo: Free, but must be present 
 an application to Jon Severson of Front Range Cyclist frontrangecyclis
 t@gmail.com\n\nFor more information visit http://pikespeaksports.us/ev
 ents/front-range-cyclist-bicycle
DTSTART:20100911T150000Z
DTEND:20100911T230000Z
CATEGORIES:bicycle, show
LOCATION:Downtown Colorado Springs (almost 6 city blocks)
WEBSITE:http://www.Facebook.com/frontrangecyclist
URL:http://www.Facebook.com/frontrangecyclist
CONTACT:719-387-1277
ORGANIZER;CN="Jon Severson":http://pikespeaksports.us/profile/JonSever
 son
ATTACH;FMTTYPE="image/jpeg":
ATTENDEE;ROLE=REQ-PARTICIPANT;PARTSTAT=ACCEPTED;RSVP=TRUE;CN="Jon Seve
 rson":http://pikespeaksports.us/profile/JonSeverson
ATTENDEE;ROLE=REQ-PARTICIPANT;PARTSTAT=TENTATIVE;RSVP=TRUE;CN="Scott F
  Swandal":http://pikespeaksports.us/profile/ScottFSwandal
ATTENDEE;ROLE=REQ-PARTICIPANT;PARTSTAT=TENTATIVE;RSVP=TRUE;CN="Amy Sel
 tzer":http://pikespeaksports.us/profile/AmySeltzer
END:VEVENT
END:VCALENDAR
