BEGIN:VCALENDAR
PRODID:NingEventWidget-v1
VERSION:2.0
METHOD:PUBLISH
BEGIN:VEVENT
UID:5021591:Event:841706
DTSTAMP:20260422T143123Z
SUMMARY:Free Class! Introduction to Massage Therapy
DESCRIPTION:Join us for a free class, Introduction to Massage Therapy,
  Wednesday, September 4th from 6 PM - 8 PM.\nLearn more about the mass
 age profession and our program, tour our campus, and learn and practic
 e Swedish techniques in our hands-on classroom.\nCall (719) 634-7347 t
 o sign up.\nSpace is limited.\n\nFor more information visit http://pik
 espeaksports.us/events/free-class-introduction-to-massage-therapy
DTSTART:20190905T000000Z
DTEND:20190905T020000Z
CATEGORIES:workshop
LOCATION:Colorado Institute of Massage Therapy
WEBSITE:http://www.cimt.edu
URL:http://www.cimt.edu
CONTACT:(719)637-7347
ORGANIZER;CN="Karena Vannaman":http://pikespeaksports.us/profile/Maria
 Boice786
ATTACH;FMTTYPE="image/jpeg":https://storage.ning.com/topology/rest/1.0
 /file/get/3422113935?profile=original
ATTENDEE;ROLE=REQ-PARTICIPANT;PARTSTAT=ACCEPTED;RSVP=TRUE;CN="Karena V
 annaman":http://pikespeaksports.us/profile/MariaBoice786
END:VEVENT
END:VCALENDAR
