BEGIN:VCALENDAR
PRODID:NingEventWidget-v1
VERSION:2.0
METHOD:PUBLISH
BEGIN:VEVENT
UID:5021591:Event:29835
DTSTAMP:20260423T083624Z
SUMMARY:Fountain Valley 5K for the Fallen
DESCRIPTION:A 5K race created by the family and friends of Spc. Ronald
  J Tucker, our mission is to honor and remember those who paid the ult
 imate sacrifice for our FREEDOMS. Our creed of\" In the Community, for
  the Community\" represents our committment to ensure the Fountain Val
 ley pays reverance to all of the service men and women in all military
  branches. \" \"DEEDS NOT WORDS.\"\nSaturday, September 4, 2010. Same-
 day registration begins at 7:00 a.m.\nFountain Fort Carson High School
 , Guy Barrickman Staduim 900 Jimmy Camp Road, Fountain , CO\nClick her
 e to register.\nFees: 12 and under $13.95/Adults 12 and up $28.95\nrac
 e4fallen@earthlink.net for questions.\n\nFor more information visit ht
 tp://pikespeaksports.us/events/fountain-valley-5k-for-the
DTSTART:20100904T140000Z
DTEND:20100904T170000Z
CATEGORIES:5k, run
LOCATION:Guy Barickman Stadium, Fountain
WEBSITE:
URL:
CONTACT:
ORGANIZER;CN="Tim Bergsten":http://pikespeaksports.us/profile/TimBergs
 ten
ATTACH;FMTTYPE="image/jpeg":http://storage.ning.com/topology/rest/1.0/
 file/get/2842539271?profile=original
ATTENDEE;ROLE=REQ-PARTICIPANT;PARTSTAT=ACCEPTED;RSVP=TRUE;CN="Tim Berg
 sten":http://pikespeaksports.us/profile/TimBergsten
END:VEVENT
END:VCALENDAR
