BEGIN:VCALENDAR
PRODID:NingEventWidget-v1
VERSION:2.0
METHOD:PUBLISH
BEGIN:VEVENT
UID:5021591:Event:7341
DTSTAMP:20260420T174728Z
SUMMARY:First Saturday Run & Sale
DESCRIPTION:Join CRC for a run at 7:30am this Saturday and then free b
 reakfast and sales throughout the store!\n\nFor more information visit
  http://pikespeaksports.us/events/first-saturday-run-sale
DTSTART:20100605T133000Z
DTEND:20100605T170000Z
CATEGORIES:run, sale, breakfast
LOCATION:The Colorado Running Company
WEBSITE:http://www.corunco.com/
URL:http://www.corunco.com/
CONTACT:635-3833
ORGANIZER;CN="The Colorado Running Company":http://pikespeaksports.us/
 profile/TheColoradoRunningCompany
ATTACH;FMTTYPE="image/jpeg":
ATTENDEE;ROLE=REQ-PARTICIPANT;PARTSTAT=ACCEPTED;RSVP=TRUE;CN="Terry Mo
 ntgomery":http://pikespeaksports.us/profile/TerryMontgomery
ATTENDEE;ROLE=REQ-PARTICIPANT;PARTSTAT=ACCEPTED;RSVP=TRUE;CN="The Colo
 rado Running Company":http://pikespeaksports.us/profile/TheColoradoRun
 ningCompany
END:VEVENT
END:VCALENDAR
