BEGIN:VCALENDAR
PRODID:NingEventWidget-v1
VERSION:2.0
METHOD:PUBLISH
BEGIN:VEVENT
UID:5021591:Event:1682
DTSTAMP:20260423T113402Z
SUMMARY:First Saturday @ CRC
DESCRIPTION:This Saturday, join the staff at Colorado Running Company 
 on a social run along Santa Fe Trail/Monument Valley Park. All walkers
 /runners welcome! FREE breakfast after the run and also specials & sal
 es until 11am.\n\nFor more information visit http://pikespeaksports.us
 /events/first-saturday-crc
DTSTART:20100403T133000Z
DTEND:20100403T170000Z
CATEGORIES:run, group, running
LOCATION:The Colorado Running Company
WEBSITE:http://www.corunco.com/
URL:http://www.corunco.com/
CONTACT:635-3833
ORGANIZER:CRC
ATTACH;FMTTYPE="image/jpeg":http://storage.ning.com/topology/rest/1.0/
 file/get/2810573024?profile=original
ATTENDEE;ROLE=REQ-PARTICIPANT;PARTSTAT=ACCEPTED;RSVP=TRUE;CN="Randi Hi
 tchcock":http://pikespeaksports.us/profile/RandiHitchcock
END:VEVENT
END:VCALENDAR
