BEGIN:VCALENDAR
PRODID:NingEventWidget-v1
VERSION:2.0
METHOD:PUBLISH
BEGIN:VEVENT
UID:5021591:Event:893912
DTSTAMP:20260422T083805Z
SUMMARY:Fatherhood 5k-Family Run/Walk
DESCRIPTION:Let's gather as a community to Celebrate Fatherhood! Infer
 no's 2nd annual officially timed Family run/walk. Also, bring a picnic
  & plan to stay and hang for food & fellowship. 9am Race Start from Pa
 vilions\n\nFor more information visit http://pikespeaksports.us/events
 /fatherhood-5k-family-run-walk
DTSTART:20240615T130000Z
DTEND:20240615T180000Z
CATEGORIES:5k, "run/walk"
LOCATION:John Venezia Park
WEBSITE:https://www.infernomen.com/event-details/fatherhood-5k-family-
 run-walk
URL:https://www.infernomen.com/event-details/fatherhood-5k-family-run-
 walk
CONTACT:7193062330
ORGANIZER;CN=Pharis:http://pikespeaksports.us/profile/Pharis645
ATTACH;FMTTYPE="image/jpeg":https://storage.ning.com/topology/rest/1.0
 /file/get/12415409060?profile=original
ATTENDEE;ROLE=REQ-PARTICIPANT;PARTSTAT=ACCEPTED;RSVP=TRUE;CN=Pharis:ht
 tp://pikespeaksports.us/profile/Pharis645
END:VEVENT
END:VCALENDAR
