BEGIN:VCALENDAR
PRODID:NingEventWidget-v1
VERSION:2.0
METHOD:PUBLISH
BEGIN:VEVENT
UID:5021591:Event:34970
DTSTAMP:20260424T212534Z
SUMMARY:Fall Series II - Bear Creek Park
DESCRIPTION:The Fall Series is a series of four races in four differen
 t city and county parks. The courses are run on trails that range from
  well-maintained to very rocky with exposed tree roots. And if there i
 s water in the park, you will get wet.\n\nFor more information visit h
 ttp://pikespeaksports.us/events/fall-series-ii-bear-creek
DTSTART:20101017T173000Z
DTEND:20101017T190000Z
CATEGORIES:"trail running race", race
LOCATION:Bear Creek Park
WEBSITE:http://pprrun.org/
URL:http://pprrun.org/
CONTACT:
ORGANIZER:
ATTACH;FMTTYPE="image/jpeg":
ATTENDEE;ROLE=REQ-PARTICIPANT;PARTSTAT=ACCEPTED;RSVP=TRUE;CN="Nicole O
 dell":http://pikespeaksports.us/profile/NicoleDrummer
ATTENDEE;ROLE=REQ-PARTICIPANT;PARTSTAT=ACCEPTED;RSVP=TRUE;CN="Julie An
 n Hoffman":http://pikespeaksports.us/profile/JulieAnnHoffman
ATTENDEE;ROLE=REQ-PARTICIPANT;PARTSTAT=ACCEPTED;RSVP=TRUE;CN="Brian Mc
 Carrie":http://pikespeaksports.us/profile/virtualbrian
END:VEVENT
END:VCALENDAR
