BEGIN:VCALENDAR
PRODID:NingEventWidget-v1
VERSION:2.0
METHOD:PUBLISH
BEGIN:VEVENT
UID:5021591:Event:1087
DTSTAMP:20260421T093647Z
SUMMARY:Falcon Groundspeed Triathlon
DESCRIPTION:Annual sprint triathlon held at the U.S. Air Force Academy
 . 800 yard swim, 15.26 mile bike, 5k (3.1 mile) run. Help the AFA Tri 
 Team raise money, as well as have a great time doing a sprint tri.\n\n
 For more information visit http://pikespeaksports.us/events/falcon-gro
 undspeed-triathlon
DTSTART:20100501T140000Z
DTEND:20100501T180000Z
CATEGORIES:triathlon
LOCATION:Air Force Academy
WEBSITE:http://www.falcongroundspeed.com/
URL:http://www.falcongroundspeed.com/
CONTACT:
ORGANIZER:USAFA Triathlon
ATTACH;FMTTYPE="image/jpeg":
ATTENDEE;ROLE=REQ-PARTICIPANT;PARTSTAT=ACCEPTED;RSVP=TRUE;CN="Laura Hr
 onik":http://pikespeaksports.us/profile/LauraHronik
ATTENDEE;ROLE=REQ-PARTICIPANT;PARTSTAT=ACCEPTED;RSVP=TRUE;CN="Nicole O
 dell":http://pikespeaksports.us/profile/NicoleDrummer
ATTENDEE;ROLE=REQ-PARTICIPANT;PARTSTAT=ACCEPTED;RSVP=TRUE;CN="Brian Mc
 Carrie":http://pikespeaksports.us/profile/virtualbrian
ATTENDEE;ROLE=REQ-PARTICIPANT;PARTSTAT=ACCEPTED;RSVP=TRUE;CN="Cory Mor
 lock":http://pikespeaksports.us/profile/CoryMorlock
END:VEVENT
END:VCALENDAR
