BEGIN:VCALENDAR
PRODID:NingEventWidget-v1
VERSION:2.0
METHOD:PUBLISH
BEGIN:VEVENT
UID:5021591:Event:878453
DTSTAMP:20260422T155955Z
SUMMARY:Enchanted Circle
DESCRIPTION:EXPERIENCE THE BEAUTY OF NEW MEXICO!\nThe Enchanted Circle
  Bicycle Tour offers participants the opportunity to ride some of the 
 most scenic areas in the southwest. On both the 85 and 100-mile course
 , cyclists will experience rewarding climbs, rolling hills, fast desce
 nts and hairpin turns. Bounded by some of the most spectacular peaks i
 n New Mexico, the Enchanted Circle Scenic Byway features the iconic mo
 untain-town of Red River, the Village of Questa, the soul of the South
 west in Taos, the four-season resort of Angel Fire, the summer-home co
 mmunity of Eagle Nest and the state’s highest mountain road in Bobca
 t Pass. There’s no better way to experience the raw, natural beauty 
 of Northern New Mexico! \nThe tour includes full route support, stock
 ed aid stations, music, food and libations.  New in 2022 is a timed 
 hill climb of Bobcat Pass before coasting to the finish line in Red Ri
 ver! Race your friends, race the clock.\nJoin us for a taste of everyt
 hing New Mexico on Saturday, August 27, 2022.\n\nFor more information 
 visit http://pikespeaksports.us/events/enchanted-circle
DTSTART:20220827T060000Z
DTEND:20220828T055900Z
CATEGORIES:cycling, ride
LOCATION:Red River, NM
WEBSITE:https://events.outsideonline.com/enchantedcircle/
URL:https://events.outsideonline.com/enchantedcircle/
CONTACT:
ORGANIZER;CN="Roll Massif":http://pikespeaksports.us/profile/RollMassi
 f
ATTACH;FMTTYPE="image/jpeg":https://storage.ning.com/topology/rest/1.0
 /file/get/10253223498?profile=original
ATTENDEE;ROLE=REQ-PARTICIPANT;PARTSTAT=ACCEPTED;RSVP=TRUE;CN="Roll Mas
 sif":http://pikespeaksports.us/profile/RollMassif
END:VEVENT
END:VCALENDAR
