BEGIN:VCALENDAR
PRODID:NingEventWidget-v1
VERSION:2.0
METHOD:PUBLISH
BEGIN:VEVENT
UID:5021591:Event:878363
DTSTAMP:20260422T112837Z
SUMMARY:Elephant Rock
DESCRIPTION:RELIVE YOUR RIDES AND RELISH IN THE MEMORIESAT THE ROCK\n\
 n\nAs the proverb goes “All good things must come to an end”. El
 ephant Rock has had a tremendous “ride” dating back 35 years; one 
 of the state’s longest standing cycling traditions. When the ride fi
 rst began, Castle Rock was a little country town of 10,000 residents, 
 today it’s a bustling bedroom community with over 80,000 residents a
 nd growing.\nElephant Rock has always pride itself in offering an exce
 llent ride only to be matched by it’s post-ride festivities.  We ar
 e committed to that same experience for our final swan song as we bid 
 farewell to the ride where so many friendships have been forged and me
 mories created. \nThis year we will have three road courses (45, 62
  and 100 miles), and one great family ride (12 miles). It all goes d
 own June 5 in Castle Rock, Colorado, with all rides starting and finis
 hing at the Douglas County Fairgrounds.\nAnd the rides are only half
  the party! The Colorado Bike Expo on June 5 will feature scores of co
 ol exhibitors, demos, live music, food and more.\n\n\n\nFor more infor
 mation visit http://pikespeaksports.us/events/elephant-rock
DTSTART:20220605T060000Z
DTEND:20220606T055900Z
CATEGORIES:cycling, ride
LOCATION:Douglas County Fairgrounds
WEBSITE:https://events.outsideonline.com/elephantrock/
URL:https://events.outsideonline.com/elephantrock/
CONTACT:
ORGANIZER;CN="Roll Massif":http://pikespeaksports.us/profile/RollMassi
 f
ATTACH;FMTTYPE="image/jpeg":https://storage.ning.com/topology/rest/1.0
 /file/get/10253210656?profile=original
ATTENDEE;ROLE=REQ-PARTICIPANT;PARTSTAT=ACCEPTED;RSVP=TRUE;CN="Roll Mas
 sif":http://pikespeaksports.us/profile/RollMassif
END:VEVENT
END:VCALENDAR
