BEGIN:VCALENDAR
PRODID:NingEventWidget-v1
VERSION:2.0
METHOD:PUBLISH
BEGIN:VEVENT
UID:5021591:Event:4765
DTSTAMP:20260421T210238Z
SUMMARY:El Paso County Search & Rescue GEAR SWAP
DESCRIPTION:GEAR SWAP\nsponsored by:\nThe COLORADO MOUNTAIN CLUB and E
 L PASO COUNTY\nSEARCH AND RESCUE\n\nBackpacking equipment\nClimbing eq
 uipment\nSkiing equipment\nAny outdoor related gear\n**non-motorized o
 nly**\n\nEntrance Fee: $1 suggested donation to the El Paso County Sea
 rch & Rescue. No fee required to sell.\nContact: Chris Duval at zompop
 o2004@yahoo.com\n\nFor more information visit http://pikespeaksports.u
 s/events/el-paso-county-search-rescue
DTSTART:20100515T150000Z
DTEND:20100515T180000Z
CATEGORIES:gear, swap
LOCATION:El Paso County Search and Rescue Building
WEBSITE:
URL:
CONTACT:(719)-332-9990
ORGANIZER:
ATTACH;FMTTYPE="image/jpeg":http://storage.ning.com/topology/rest/1.0/
 file/get/2842534170?profile=original
ATTENDEE;ROLE=REQ-PARTICIPANT;PARTSTAT=ACCEPTED;RSVP=TRUE;CN="Trudy L 
 DeCoronado":http://pikespeaksports.us/profile/TrudyLDeCoronado
ATTENDEE;ROLE=REQ-PARTICIPANT;PARTSTAT=ACCEPTED;RSVP=TRUE;CN="Brian Mc
 Carrie":http://pikespeaksports.us/profile/virtualbrian
END:VEVENT
END:VCALENDAR
