BEGIN:VCALENDAR
PRODID:NingEventWidget-v1
VERSION:2.0
METHOD:PUBLISH
BEGIN:VEVENT
UID:5021591:Event:894214
DTSTAMP:20260422T052447Z
SUMMARY:Disability Copnnections
DESCRIPTION:Join us for this Jazz Music Fest and 5k walk/run featuring
  renowed musician James Divine.  Disability Connections (DC) hosts a
 n annual summer concert to raise funds for those in the disability com
 munity that are limited in their quality of life. DC offers\n\nFor mo
 re information visit http://pikespeaksports.us/events/disability-copnn
 ections
DTSTART:20240720T150000Z
DTEND:20240720T190000Z
CATEGORIES:5k, "run/walk"
LOCATION:Buffalo Lodge Bicycle Resort
WEBSITE:https://www.runningguru.com/E1.asp?eID=121540
URL:https://www.runningguru.com/E1.asp?eID=121540
CONTACT:7193062330
ORGANIZER;CN=Pharis:http://pikespeaksports.us/profile/Pharis645
ATTACH;FMTTYPE="image/jpeg":https://storage.ning.com/topology/rest/1.0
 /file/get/12703758461?profile=original
ATTENDEE;ROLE=REQ-PARTICIPANT;PARTSTAT=ACCEPTED;RSVP=TRUE;CN=Pharis:ht
 tp://pikespeaksports.us/profile/Pharis645
END:VEVENT
END:VCALENDAR
