BEGIN:VCALENDAR
PRODID:NingEventWidget-v1
VERSION:2.0
METHOD:PUBLISH
BEGIN:VEVENT
UID:5021591:Event:19874
DTSTAMP:20260423T141612Z
SUMMARY:Denver Half Marathon
DESCRIPTION:We are bringing back the RACE!!!\nCherry Creek Reservoir- 
 with a NEW course- 90% trail and even some single track! ALL flat.\npe
 rfect in your training if you are running Denver Rock n Roll a month l
 ater!\nEmail me for a discount code.\nfirst 500 get a cool shoe bag...
 all get a long sleeve Tech-T, finisher medal.\n\nFor more information 
 visit http://pikespeaksports.us/events/denver-half-marathon
DTSTART:20100912T150000Z
DTEND:20100912T180000Z
CATEGORIES:running-, half, marathon
LOCATION:Cherry Creek Reservoir (west)
WEBSITE:http://www.DenverHalf.com
URL:http://www.DenverHalf.com
CONTACT:303-926-1017
ORGANIZER:Craig Mintzlaff, Endurance Sports
ATTACH;FMTTYPE="image/jpeg":
ATTENDEE;ROLE=REQ-PARTICIPANT;PARTSTAT=ACCEPTED;RSVP=TRUE;CN="Terry Mo
 ntgomery":http://pikespeaksports.us/profile/TerryMontgomery
ATTENDEE;ROLE=REQ-PARTICIPANT;PARTSTAT=ACCEPTED;RSVP=TRUE;CN="Craig Mi
 ntzlaff":http://pikespeaksports.us/profile/CraigMintzlaff
END:VEVENT
END:VCALENDAR
