BEGIN:VCALENDAR
PRODID:NingEventWidget-v1
VERSION:2.0
METHOD:PUBLISH
BEGIN:VEVENT
UID:5021591:Event:891144
DTSTAMP:20260422T083028Z
SUMMARY:D 4.9K
DESCRIPTION:The D4.9K Run/Walk starts at 9am, with the return of the f
 ree 49 yard kids dash at 8:45am. Finishers ribbons will be awarded to 
 49 yard dash participants. \n\nFor more information visit http://pike
 speaksports.us/events/d-4-9k-1
DTSTART:20230930T150000Z
DTEND:20230930T180000Z
CATEGORIES:"4.9k"
LOCATION:Falcon High School
WEBSITE:https://www.runningguru.com/E1.asp?eID=106243
URL:https://www.runningguru.com/E1.asp?eID=106243
CONTACT:17193062330
ORGANIZER;CN=Pharis:http://pikespeaksports.us/profile/Pharis645
ATTACH;FMTTYPE="image/jpeg":https://storage.ning.com/topology/rest/1.0
 /file/get/11806003067?profile=original
ATTENDEE;ROLE=REQ-PARTICIPANT;PARTSTAT=ACCEPTED;RSVP=TRUE;CN=Pharis:ht
 tp://pikespeaksports.us/profile/Pharis645
END:VEVENT
END:VCALENDAR
