BEGIN:VCALENDAR
PRODID:NingEventWidget-v1
VERSION:2.0
METHOD:PUBLISH
BEGIN:VEVENT
UID:5021591:Event:841292
DTSTAMP:20260422T113000Z
SUMMARY:D 4.9 K
DESCRIPTION:The D4.9 K Run/Walk is a family friendly event for D49 s
 taff, students, parents and community members. Our goal is to provide 
 a fun, low-cost healthy event. All participants will receive a swag b
 ag, long sleeve \"T\" shirt, and be entered into the prize award drawi
 ng. \nRegister by August 15, 2019 to guarantee shirt size.\n\nFor mo
 re information visit http://pikespeaksports.us/events/d-4-9-k-1
DTSTART:20190914T150000Z
DTEND:20190914T180000Z
CATEGORIES:family, fun, "run/walk"
LOCATION:Falcon High School
WEBSITE:https://www.runningguru.com/E1.asp?eID=58093
URL:https://www.runningguru.com/E1.asp?eID=58093
CONTACT:7193062330
ORGANIZER;CN=Pharis:http://pikespeaksports.us/profile/Pharis645
ATTACH;FMTTYPE="image/jpeg":https://storage.ning.com/topology/rest/1.0
 /file/get/3303098945?profile=original
ATTENDEE;ROLE=REQ-PARTICIPANT;PARTSTAT=ACCEPTED;RSVP=TRUE;CN=Pharis:ht
 tp://pikespeaksports.us/profile/Pharis645
END:VEVENT
END:VCALENDAR
