BEGIN:VCALENDAR
PRODID:NingEventWidget-v1
VERSION:2.0
METHOD:PUBLISH
BEGIN:VEVENT
UID:5021591:Event:7589
DTSTAMP:20260420T223441Z
SUMMARY:CVA Tuesday Night Track Series
DESCRIPTION:New to track racing? Haven’t raced in years? Come get yo
 ur feet wet with the Colorado Velodrome Associations Tuesday Night Tra
 ck Series!\n\nCategories Offered: Categories are all self assigned on 
 Tuesday Nights, A, B & C. Feel like you have legs tonight? Then try a 
 harder category. Categories breakout such that A is the hardest and C 
 is for those just starting out.\n\nRegistration: Registration opens at
  6pm. Racing will begin at 7pm. $20 entry fee plus $10 track usage fee
  for non-CVA members and $10 for CVA members. Go to the CVA website to
  learn how to become a member. Riders not holding a valid USAC license
  must purchase a one-day for $10. One day and annual licenses are avai
 lable for purchase at registration. All riders must complete a USAC wa
 iver form; riders under the age of 18 must have their parent’s signa
 ture on the waiver.\n\nFor more information visit http://pikespeakspor
 ts.us/events/cva-tuesday-night-track-series
DTSTART:20100602T000000Z
DTEND:20100602T020000Z
CATEGORIES:velodrome, bicycle, race, track
LOCATION:Colorado Springs Velodrome, Memorial Park
WEBSITE:http://www.coloradousac.org/track/#2010Season
URL:http://www.coloradousac.org/track/#2010Season
CONTACT:
ORGANIZER:
ATTACH;FMTTYPE="image/jpeg":http://storage.ning.com/topology/rest/1.0/
 file/get/2842535180?profile=original
ATTENDEE;ROLE=REQ-PARTICIPANT;PARTSTAT=ACCEPTED;RSVP=TRUE;CN="Brian Mc
 Carrie":http://pikespeaksports.us/profile/virtualbrian
END:VEVENT
END:VCALENDAR
