BEGIN:VCALENDAR
PRODID:NingEventWidget-v1
VERSION:2.0
METHOD:PUBLISH
BEGIN:VEVENT
UID:5021591:Event:1156
DTSTAMP:20260422T145006Z
SUMMARY:Cut to the Chase 5k
DESCRIPTION:A 5k to benefit the Andrew Gomez Dream Foundation, Larry K
 ing Cardiac Foundation, Children's Miracle Network, Food for Africa, a
 nd the Leeza Gibbons Memory Foundation.\n\nRace starts at the Paul Mit
 chell School downtown on Colorado Ave. and follows an out and back cou
 rse on sidewalks and dirt trails North in Monument Valley Park.\n\nCos
 t is $20.00 through April 10th.\n\nDownload an entry form online or re
 gister at Paul Mitchell the School, Runner's Roost or Boulder Running 
 Company.\n\nFor more information visit http://pikespeaksports.us/event
 s/cut-to-the-chase-5k
DTSTART:20100411T150000Z
DTEND:20100411T180000Z
CATEGORIES:running, race
LOCATION:Paul Mitchell School, downtown.
WEBSITE:http://www.brccoloradosprings.com/events.htm
URL:http://www.brccoloradosprings.com/events.htm
CONTACT:
ORGANIZER:
ATTACH;FMTTYPE="image/jpeg":http://storage.ning.com/topology/rest/1.0/
 file/get/2842523830?profile=original
ATTENDEE;ROLE=REQ-PARTICIPANT;PARTSTAT=ACCEPTED;RSVP=TRUE;CN="Brian Mc
 Carrie":http://pikespeaksports.us/profile/virtualbrian
END:VEVENT
END:VCALENDAR
