BEGIN:VCALENDAR
PRODID:NingEventWidget-v1
VERSION:2.0
METHOD:PUBLISH
BEGIN:VEVENT
UID:5021591:Event:878367
DTSTAMP:20260422T143236Z
SUMMARY:Crooked Gravel
DESCRIPTION:HIGH MOUNTAIN GRAVEL\n\n\n\n\n\nCrooked Gravel takes a few
  cues from an exploratory event the legendary Ron Kiefel put together 
 a decade ago called Crooked Roubaix. Back before gravel bikes were rea
 lly a thing, Kiefel and some friends set out on a 95-mile dirt-road ad
 venture from Winter Park up into the high mountains on road bikes.\nFa
 st forward to 2022 and gravel bikes are a thing. Our two courses t
 ake in the very best of Grand County gravel, with long, winding climbs
  up through aspen and pine forests, wide open descents under the massi
 ve Colorado sky.\nIf nothing worth doing is easy, then Crooked Gravel 
 is certainly worth doing. Our long route tackles over 5,000 feet of
  climbing on gravel, and our short route is perfect for beginners.  A
 ll beginning at an elevation of 8,600 feet.\n\n\n\n\n\n\n\nFor more i
 nformation visit http://pikespeaksports.us/events/crooked-gravel
DTSTART:20220723T060000Z
DTEND:20220724T055900Z
CATEGORIES:cycling, ride
LOCATION:Winter Park Resort
WEBSITE:https://events.outsideonline.com/crookedgravel/
URL:https://events.outsideonline.com/crookedgravel/
CONTACT:
ORGANIZER;CN="Roll Massif":http://pikespeaksports.us/profile/RollMassi
 f
ATTACH;FMTTYPE="image/jpeg":https://storage.ning.com/topology/rest/1.0
 /file/get/10253214458?profile=original
ATTENDEE;ROLE=REQ-PARTICIPANT;PARTSTAT=ACCEPTED;RSVP=TRUE;CN="Roll Mas
 sif":http://pikespeaksports.us/profile/RollMassif
END:VEVENT
END:VCALENDAR
