BEGIN:VCALENDAR
PRODID:NingEventWidget-v1
VERSION:2.0
METHOD:PUBLISH
BEGIN:VEVENT
UID:5021591:Event:7658
DTSTAMP:20260420T192320Z
SUMMARY:CRC Social Run
DESCRIPTION:Join the staff at CRC for a social run from 6-7pm around M
 onument Valley Park. Various speeds and distances welcome! Come and ch
 eck out all the new Incline Club gear! Free food and Trinity brews aft
 erward! Hope to see you there!\n\nFor more information visit http://pi
 kespeaksports.us/events/crc-social-run
DTSTART:20100603T000000Z
DTEND:20100603T010000Z
CATEGORIES:social, run
LOCATION:The Colorado Running Company
WEBSITE:http://www.corunco.com/
URL:http://www.corunco.com/
CONTACT:635-3383
ORGANIZER;CN="The Colorado Running Company":http://pikespeaksports.us/
 profile/TheColoradoRunningCompany
ATTACH;FMTTYPE="image/jpeg":
ATTENDEE;ROLE=REQ-PARTICIPANT;PARTSTAT=ACCEPTED;RSVP=TRUE;CN="The Colo
 rado Running Company":http://pikespeaksports.us/profile/TheColoradoRun
 ningCompany
END:VEVENT
END:VCALENDAR
