BEGIN:VCALENDAR
PRODID:NingEventWidget-v1
VERSION:2.0
METHOD:PUBLISH
BEGIN:VEVENT
UID:5021591:Event:843522
DTSTAMP:20260422T192511Z
SUMMARY:COS Sports &amp; Rec Expo at Ivywild School!
DESCRIPTION:Wed, Nov 20th, 5pm-8:30pmHosted at Ivywild School in the G
 ym! Free to attend!\nLooking to connect with the best sports & recrea
 tion-related businesses, events, and nonprofits? We get a bit of every
 thing at our Expos over the last 4 years with vendors that have come f
 rom New Mexico, Denver, Boulder, Buena Vista, Canon City, Salida, Monu
 ment, Pueblo, and good old Colorado Springs over the years. With room 
 for over 25 vendors, it's never disappointed and been a great way to m
 ix & mingle at Ivywild School with old friends as well as make new one
 s! Vendors. We still have some space available. Please message us dire
 ctly via our Facebook page or the contact form on CSYoungProfessionals
 .com. And yes, this organized by CSYP but its is what we call a \"Bett
 er Community\" event, which serves all and just happens to appeal to Y
 P's as well. Free to attend as well!\n \nRSVP to the FB Event for mor
 e details and keep up to date on who will attend!\nFacebook.com/events
 /525537274645528/\n\nFor more information visit http://pikespeaksports
 .us/events/cos-sports-amp-rec-expo-at-ivywild-school
DTSTART:20191121T000000Z
DTEND:20191121T033000Z
CATEGORIES:expo, and, social
LOCATION:Ivywild School
WEBSITE:http://www.csyoungprofessionals.com
URL:http://www.csyoungprofessionals.com
CONTACT:
ORGANIZER:Active COS
ATTACH;FMTTYPE="image/jpeg":https://storage.ning.com/topology/rest/1.0
 /file/get/3653931419?profile=original
ATTENDEE;ROLE=REQ-PARTICIPANT;PARTSTAT=ACCEPTED;RSVP=TRUE;CN="Jon Seve
 rson":http://pikespeaksports.us/profile/JonSeverson
END:VEVENT
END:VCALENDAR
