BEGIN:VCALENDAR
PRODID:NingEventWidget-v1
VERSION:2.0
METHOD:PUBLISH
BEGIN:VEVENT
UID:5021591:Event:878282
DTSTAMP:20260422T155949Z
SUMMARY:Copper Triangle
DESCRIPTION:A COLORADO CLASSIC\nWe start high in the Rocky Mountains a
 nd only go up from there.\nBased at Copper Mountain Resort in the he
 art of the Rockies, the famous Copper Triangle is a cycling classic.
 \nThis road ride is graced with breathtaking scenery, gorgeous roads
  and three climbs over 10,000 feet. The 79-mile loop crests three Col
 orado mountain passes – Fremont Pass (Elev. 11,318’), Tennessee Pa
 ss (Elev. 10,424’) and Vail Pass (Elev. 10,662’) – for a total e
 levation gain of 6,500 feet.\nNew in 2022 – a friendly QOM & KOM of 
 Vail Pass. Race your friends, race pros, race the clock. Podium presen
 tations will take place for the top three women and men.\n\nFor more i
 nformation visit http://pikespeaksports.us/events/copper-triangle
DTSTART:20220806T060000Z
DTEND:20220807T055900Z
CATEGORIES:cycling, ride
LOCATION:Copper Mountain Resort
WEBSITE:https://events.outsideonline.com/coppertriangle/
URL:https://events.outsideonline.com/coppertriangle/
CONTACT:
ORGANIZER;CN="Roll Massif":http://pikespeaksports.us/profile/RollMassi
 f
ATTACH;FMTTYPE="image/jpeg":https://storage.ning.com/topology/rest/1.0
 /file/get/10253222853?profile=original
ATTENDEE;ROLE=REQ-PARTICIPANT;PARTSTAT=ACCEPTED;RSVP=TRUE;CN="Roll Mas
 sif":http://pikespeaksports.us/profile/RollMassif
END:VEVENT
END:VCALENDAR
