BEGIN:VCALENDAR
PRODID:NingEventWidget-v1
VERSION:2.0
METHOD:PUBLISH
BEGIN:VEVENT
UID:5021591:Event:25554
DTSTAMP:20260423T150816Z
SUMMARY:Colorado Tour de Cure
DESCRIPTION:The American Diabetes Association will be hosting their an
 nual Tour de Cure with a number of different Rides. It is a great even
  that supports a great cause....but better yet it is a day on the bike
  with fellow cyclists.\nThere is still time to join the ride or you ca
 n donate to the cause by support local riders.. Either way you are sup
 porting a great organization and promoting cycling.\n\nFor more inform
 ation visit http://pikespeaksports.us/events/colorado-tour-de-cure
DTSTART:20100821T060000Z
DTEND:20100822T055900Z
CATEGORIES:fundraiser
LOCATION:Boulder County Fair Grouds
WEBSITE:http://main.diabetes.org/site/TR?pg=personal&fr_id=6910&px=608
 2488
URL:http://main.diabetes.org/site/TR?pg=personal&fr_id=6910&px=6082488
CONTACT:
ORGANIZER:American Diabetes Association
ATTACH;FMTTYPE="image/jpeg":
ATTENDEE;ROLE=REQ-PARTICIPANT;PARTSTAT=ACCEPTED;RSVP=TRUE;CN="Scott F 
 Swandal":http://pikespeaksports.us/profile/ScottFSwandal
END:VEVENT
END:VCALENDAR
