BEGIN:VCALENDAR
PRODID:NingEventWidget-v1
VERSION:2.0
METHOD:PUBLISH
BEGIN:VEVENT
UID:5021591:Event:825917
DTSTAMP:20260422T210933Z
SUMMARY:Colorado Springs Sports Hall of Fame
DESCRIPTION:The Colorado Springs Sports Hall of Fame Class of 2019 wil
 l be formally inducted and honored on Tuesday, October 21 at The Broad
 moor World Arena. The 20th annual banquet and induction ceremony is pr
 esented by the Colorado Springs Sports Corporation and sponsored by Th
 e Gazette and ANB Bank. The Class of 2019 will be inducted during a ga
 la evening beginning with a reception at 5:00 p.m and dinner at 7:00 p
 .m. Also on the menu is the popular sports silent auction, a feature o
 f the event since its inaugural year in 2000.\n\nFor more information 
 visit http://pikespeaksports.us/events/colorado-springs-sports-hall-of
 -fame-2
DTSTART:20191021T230000Z
DTEND:20191022T040000Z
CATEGORIES:community
LOCATION:The Broadmoor World Arena
WEBSITE:http://ColoradoSpringsSports.org
URL:http://ColoradoSpringsSports.org
CONTACT:7196347333
ORGANIZER;CN="Sports Corp":http://pikespeaksports.us/profile/SportsCor
 p
ATTACH;FMTTYPE="image/jpeg":https://storage.ning.com/topology/rest/1.0
 /file/get/910678633?profile=original
ATTENDEE;ROLE=REQ-PARTICIPANT;PARTSTAT=ACCEPTED;RSVP=TRUE;CN="Sports C
 orp":http://pikespeaksports.us/profile/SportsCorp
END:VEVENT
END:VCALENDAR
