BEGIN:VCALENDAR
PRODID:NingEventWidget-v1
VERSION:2.0
METHOD:PUBLISH
BEGIN:VEVENT
UID:5021591:Event:825703
DTSTAMP:20260422T174547Z
SUMMARY:Colorado Springs Labor Day Lift Off
DESCRIPTION:Admission to the park is FREE, so bring the whole family f
 or a day of fun!\nStart your morning off right with a hot air balloon 
 mass ascension of over 70 balloons accompanied by breakfast and drinks
  from local vendors.\nActivities will continue throughout the day with
  skydiving demonstrations, wakeboarding exhibitions, paddle boarding, 
 live entertainment, chainsaw carving and donut eating competitions.\nW
 rap up your visit at Memorial Park over the Labor Day weekend with a h
 ot air balloon glow at dusk.\n\nFor more information visit http://pike
 speaksports.us/events/colorado-springs-labor-day-lift-off-1
DTSTART:20190831T060000Z
DTEND:20190903T055900Z
CATEGORIES:"outdoor/recreation"
LOCATION:Memorial Park
WEBSITE:http://ColoradoSpringsSports.org
URL:http://ColoradoSpringsSports.org
CONTACT:7196347333
ORGANIZER;CN="Sports Corp":http://pikespeaksports.us/profile/SportsCor
 p
ATTACH;FMTTYPE="image/jpeg":https://storage.ning.com/topology/rest/1.0
 /file/get/910670936?profile=original
ATTENDEE;ROLE=REQ-PARTICIPANT;PARTSTAT=ACCEPTED;RSVP=TRUE;CN="Sports C
 orp":http://pikespeaksports.us/profile/SportsCorp
END:VEVENT
END:VCALENDAR
