BEGIN:VCALENDAR
PRODID:NingEventWidget-v1
VERSION:2.0
METHOD:PUBLISH
BEGIN:VEVENT
UID:5021591:Event:8552
DTSTAMP:20260420T143756Z
SUMMARY:Colorado Springs Cruisers Kickoff Ride!
DESCRIPTION:TONIGHT: Come down for our 1st ever \"Colorado Springs Cru
 isers\" ride down at McCabe's Tavern! Any bike will do. Any level of a
 thletic ability. This is a FUN ride. Food/drink specials starting at 5
 pm! First \"cruise\" at 5:30\n\nTo have fun. To realize you don't need
  lycra and fancy bikes to have a good time on a bike.\n\nRules:\n-Beac
 h cruisers, Townies, 3 speeds preferred\n-Geared bike riders may only 
 shift 3 times.\n-No Lycra\n-No Racing\n-No Religion\n-No Poltics\n-Mus
 t Smile. No smiley face you no ride.\n-Have fun.\n-Help others have fu
 n.\n-Buy the slow guy a beer\n\nEasy route:\n1) McCabes to Cascade\n2)
  Cascade to Pikes Peak\n3) Pikes Peak to Tejon\n4)Wave at all the poor
  souls running. Be sure to smile\n5) Cruise back down to McCabes.\n6) 
 Order some grub and suds.\n\nAmbit-ion-o-mas Route:\n1) Tejon to Sante
  Fe Trail\n2) Sante Fe Trail to Bijou\n3) Ring bell, smile at the poor
  souls running and hurting.\n4) Bijou to Tejon\n5) Tejon to McCabes\n6
 ) Repeat step #3\n7) Cruise back to McCabes\n8) Order some grub and su
 ds\n\nFor more information visit http://pikespeaksports.us/events/colo
 rado-springs-cruisers
DTSTART:20100608T230000Z
DTEND:20100609T020000Z
CATEGORIES:fun, low, key, slow, bike, "ride."
LOCATION:McCabes Tavern
WEBSITE:http://www.Mccabestavern.com
URL:http://www.Mccabestavern.com
CONTACT:
ORGANIZER;CN="Jon Severson":http://pikespeaksports.us/profile/JonSever
 son
ATTACH;FMTTYPE="image/jpeg":
ATTENDEE;ROLE=REQ-PARTICIPANT;PARTSTAT=ACCEPTED;RSVP=TRUE;CN="Terry Mo
 ntgomery":http://pikespeaksports.us/profile/TerryMontgomery
ATTENDEE;ROLE=REQ-PARTICIPANT;PARTSTAT=ACCEPTED;RSVP=TRUE;CN="Cory Mor
 lock":http://pikespeaksports.us/profile/CoryMorlock
ATTENDEE;ROLE=REQ-PARTICIPANT;PARTSTAT=ACCEPTED;RSVP=TRUE;CN="Jon Seve
 rson":http://pikespeaksports.us/profile/JonSeverson
END:VEVENT
END:VCALENDAR
