BEGIN:VCALENDAR
PRODID:NingEventWidget-v1
VERSION:2.0
METHOD:PUBLISH
BEGIN:VEVENT
UID:5021591:Event:1133
DTSTAMP:20260423T000612Z
SUMMARY:Colorado Springs Classic Criterium
DESCRIPTION:An exciting loop at Colorado College, with a sweeping down
 hill, quick steep climb, and a 180-degree hairpin turn.\n\nOn-site reg
 istration starts at 7:30am near start area. Registration closes 30 min
 utes prior to start of each race.\n\nFor more information visit http:/
 /pikespeaksports.us/events/colorado-springs-classic
DTSTART:20100410T060000Z
DTEND:20100411T055900Z
CATEGORIES:road, cycling, race
LOCATION:Colorado College
WEBSITE:https://www.usacycling.org/events/getflyer.php?permit=2010-669
URL:https://www.usacycling.org/events/getflyer.php?permit=2010-669
CONTACT:
ORGANIZER:
ATTACH;FMTTYPE="image/jpeg":http://storage.ning.com/topology/rest/1.0/
 file/get/2842524102?profile=original
ATTENDEE;ROLE=REQ-PARTICIPANT;PARTSTAT=ACCEPTED;RSVP=TRUE;CN="Brian Mc
 Carrie":http://pikespeaksports.us/profile/virtualbrian
END:VEVENT
END:VCALENDAR
