BEGIN:VCALENDAR
PRODID:NingEventWidget-v1
VERSION:2.0
METHOD:PUBLISH
BEGIN:VEVENT
UID:5021591:Event:1628
DTSTAMP:20260423T153748Z
SUMMARY:Colorado Running Company Social Run
DESCRIPTION:Come one, come all! Join the CRC staff on a fun run! Enjoy
  free snacks and drinks after the run!\n\nFor more information visit h
 ttp://pikespeaksports.us/events/colorado-running-company
DTSTART:20100401T000000Z
DTEND:20100401T013000Z
CATEGORIES:run, running
LOCATION:The Colorado Running Company
WEBSITE:http://www.corunco.com/
URL:http://www.corunco.com/
CONTACT:719-635-3833
ORGANIZER:CRC
ATTACH;FMTTYPE="image/jpeg":http://storage.ning.com/topology/rest/1.0/
 file/get/2810573024?profile=original
ATTENDEE;ROLE=REQ-PARTICIPANT;PARTSTAT=ACCEPTED;RSVP=TRUE;CN="Randi Hi
 tchcock":http://pikespeaksports.us/profile/RandiHitchcock
END:VEVENT
END:VCALENDAR
