BEGIN:VCALENDAR
PRODID:NingEventWidget-v1
VERSION:2.0
METHOD:PUBLISH
BEGIN:VEVENT
UID:5021591:Event:2233
DTSTAMP:20260421T180746Z
SUMMARY:Colorado Parkinson's Awareness Run
DESCRIPTION:This is a 5K run to raise money in the battle against Park
 inson's disease. The run begins at 10 a.m. at America the Beautiful Pa
 rk, 126 Cimino Drive.\nSupport Colorado Springs residents with Parkins
 on's disease as well as the Colorado Parkinson's Foundation.\n\nFor mo
 re information visit http://pikespeaksports.us/events/colorado-parkins
 ons-awareness
DTSTART:20100425T160000Z
DTEND:20100425T180000Z
CATEGORIES:running, event
LOCATION:America The Beautiful Park, Colorado Springs
WEBSITE:http://www.active.com/running/colorado-springs-co/colorado-par
 kinsons-awareness-run-2010
URL:http://www.active.com/running/colorado-springs-co/colorado-parkins
 ons-awareness-run-2010
CONTACT:
ORGANIZER:Colorado Parkinson's Foundation
ATTACH;FMTTYPE="image/jpeg":http://storage.ning.com/topology/rest/1.0/
 file/get/2842530554?profile=original
ATTENDEE;ROLE=REQ-PARTICIPANT;PARTSTAT=ACCEPTED;RSVP=TRUE;CN="Theresa 
 Hazelton":http://pikespeaksports.us/profile/TheresaHazelton
ATTENDEE;ROLE=REQ-PARTICIPANT;PARTSTAT=ACCEPTED;RSVP=TRUE;CN="Pikes Pe
 ak Sports":http://pikespeaksports.us/profile/PikesPeakSports
ATTENDEE;ROLE=REQ-PARTICIPANT;PARTSTAT=TENTATIVE;RSVP=TRUE;CN="Samanth
 a Rook":http://pikespeaksports.us/profile/SamanthaRook
END:VEVENT
END:VCALENDAR
