BEGIN:VCALENDAR
PRODID:NingEventWidget-v1
VERSION:2.0
METHOD:PUBLISH
BEGIN:VEVENT
UID:5021591:Event:846085
DTSTAMP:20260422T113009Z
SUMMARY:Color in Motion 5K
DESCRIPTION:Join thousands at the start in your clean white shirts tha
 t will quickly get blasted in color with our Mega Color Blaster. Throu
 ghout the course, you will run through four more color stations, where
  you get plastered with even more color. Music at each color station w
 ill keep you pumped for the whole race! At the finish, grab your aweso
 me race medal on your way to the Color Bash after party. Our DJ will k
 eep the party going with sick beats, prizes and, you guessed it, even 
 more color.\n\nFor more information visit http://pikespeaksports.us/ev
 ents/color-in-motion-5k
DTSTART:20200718T060000Z
DTEND:20200719T055900Z
CATEGORIES:color, run
LOCATION:Memorial Park
WEBSITE:http://www.coloradospringssports.org/color-in-motion-5k/
URL:http://www.coloradospringssports.org/color-in-motion-5k/
CONTACT:7196347333
ORGANIZER;CN="Sports Corp":http://pikespeaksports.us/profile/SportsCor
 p
ATTACH;FMTTYPE="image/jpeg":https://storage.ning.com/topology/rest/1.0
 /file/get/4364430362?profile=original
ATTENDEE;ROLE=REQ-PARTICIPANT;PARTSTAT=ACCEPTED;RSVP=TRUE;CN="Sports C
 orp":http://pikespeaksports.us/profile/SportsCorp
END:VEVENT
END:VCALENDAR
