BEGIN:VCALENDAR
PRODID:NingEventWidget-v1
VERSION:2.0
METHOD:PUBLISH
BEGIN:VEVENT
UID:5021591:Event:600
DTSTAMP:20260424T061731Z
SUMMARY:CITY ROCK CLIMBING GYM GRAND OPENING
DESCRIPTION:CityRock, Colorado Springs' newest, tallest, and most comp
 rehensive climbing gym, will be having a grand opening celebration fro
 m 10am to 6pm on March 13th and 14th. Climbing is free on those days, 
 and the gym will be offering discounts on memberships!\n\nFor more inf
 ormation visit http://pikespeaksports.us/events/city-rock-climbing-gym
 -grand
DTSTART:20100313T070000Z
DTEND:20100315T055900Z
CATEGORIES:rock, climbing
LOCATION:City Rock Climbing Gym Downtown
WEBSITE:http://www.climbingtherock.com
URL:http://www.climbingtherock.com
CONTACT:(719) 634-9099
ORGANIZER:
ATTACH;FMTTYPE="image/jpeg":http://storage.ning.com/topology/rest/1.0/
 file/get/2842524593?profile=original
ATTENDEE;ROLE=REQ-PARTICIPANT;PARTSTAT=ACCEPTED;RSVP=TRUE;CN="Pikes Pe
 ak Sports":http://pikespeaksports.us/profile/PikesPeakSports
ATTENDEE;ROLE=REQ-PARTICIPANT;PARTSTAT=ACCEPTED;RSVP=TRUE;CN="Brian Mc
 Carrie":http://pikespeaksports.us/profile/virtualbrian
ATTENDEE;ROLE=REQ-PARTICIPANT;PARTSTAT=TENTATIVE;RSVP=TRUE;CN="Katie B
 enzel":http://pikespeaksports.us/profile/KatieSchwing
END:VEVENT
END:VCALENDAR
