BEGIN:VCALENDAR
PRODID:NingEventWidget-v1
VERSION:2.0
METHOD:PUBLISH
BEGIN:VEVENT
UID:5021591:Event:20807
DTSTAMP:20260423T082925Z
SUMMARY:Chick-fil-A Ride for Heroes & 9-11 Tribute Events
DESCRIPTION:\nChoose-Cycle-Celebrate POLICE * FIRE * MILITARY\n2 great
  rides and community events at all 5 Colorado Springs Chick-fil-A loca
 tions to benefit and celebrate our hometown heroes. Pre-registration f
 ee only $15. Team and family discounts also available. For more inform
 ation www.cfacoloradosprings.com\n\n28-mile Heroes Challenge Ride feat
 uring more than 2,200 ft of total elevation gain. Prizes will be award
 ed to top fundraising individuals and teams, largest team, best team t
 heme (jerseys, accessories & name) as well as most patriotic.\n\n11-mi
 le Patriots Ride along the Pikes Peak Greenway Trail and Monument Cree
 k. Patriotic dress and bike decorations are highly encouraged. There w
 ill be prizes awarded for most patriotic individual and group as well 
 as for top fundraising individual and group or team.\n\nPrizes awarded
  include: 10 Free Chick-fil-A meals to each member of the largest team
 , best team theme and most patriotic team and individual. Free Chick-f
 il-A for a year (1 per week) will be awarded to each member of the top
  fundraising team and individual over $1,000. All fundraisers over $50
 0 will be entered into a drawing for a bicycle donated by Performance 
 Bicycle.\n\nFundraising is optional for this event. You can make a dif
 ference 2 ways either by raising money for our chosen police, fire or 
 military charities or by dining at any of our 5 area Chick-fil-A resta
 urants. We will donate a percent of sales all day to the Home Front Ca
 res, the Firefighters Fund and the Peace Officers Memorial.\n\nEvent s
 upport is being provided by the following Bike Shops: Ted's Bicycles i
 s providing bike racks and bike checks at event start/finish and sag s
 upport for the 28-mile Heroes Challenge. Criterium Bicycles is providi
 ng rest stop and on route sag support for 11-mile Patriots ride. Perfo
 rmance Bicycle is providing bike check at Garden of the Gods Trading P
 ost rest stop and prizes including bicycle donation.\n\nOpportunities 
 available to a limited number of experienced cyclists to serve as volu
 nteer \"Ride Ambassadors\" to ride 28-mile Heroes Challenge and help k
 eep riders safe and following the rules of the road. Free registration
  and an event active shirt. Contact Torie.\n\nFor more information vis
 it http://pikespeaksports.us/events/chickfila-ride-for-heroes-911
DTSTART:20100911T140000Z
DTEND:20100911T200000Z
CATEGORIES:cycling, event
LOCATION:CTU - Behind Chick-fil-A at Garden of the Gods
WEBSITE:http://www.cfacoloradosprings.com/
URL:http://www.cfacoloradosprings.com/
CONTACT:719-650-5114
ORGANIZER;CN="Torie Giffin":http://pikespeaksports.us/profile/TorieGif
 fin
ATTACH;FMTTYPE="image/jpeg":http://storage.ning.com/topology/rest/1.0/
 file/get/2842539350?profile=original
ATTENDEE;ROLE=REQ-PARTICIPANT;PARTSTAT=ACCEPTED;RSVP=TRUE;CN="Ken Hane
 s":http://pikespeaksports.us/profile/standupandride
ATTENDEE;ROLE=REQ-PARTICIPANT;PARTSTAT=ACCEPTED;RSVP=TRUE;CN="Ashley C
 anipe":http://pikespeaksports.us/profile/AshleyCanipe
ATTENDEE;ROLE=REQ-PARTICIPANT;PARTSTAT=ACCEPTED;RSVP=TRUE;CN="Torie Gi
 ffin":http://pikespeaksports.us/profile/TorieGiffin
END:VEVENT
END:VCALENDAR
