BEGIN:VCALENDAR
PRODID:NingEventWidget-v1
VERSION:2.0
METHOD:PUBLISH
BEGIN:VEVENT
UID:5021591:Event:877932
DTSTAMP:20260422T100414Z
SUMMARY:Cheyenne Mountain Trail Race
DESCRIPTION:An affordable race that gives something back, the Cheyenne
  Mountain Trail Race 50/25/10K on April 30th supports Achilles Pikes P
 eak, a nonprofit that helps athletes with disabilities to live active 
 lives.\r\nRegister today\r\nRunners will ply the rolling trails in Che
 yenne Mountain State Park, at the base of iconic Cheyenne Mountain. Th
 e course very is runnable with just enough technical to keep you awake
 .\r\nThe 25K course comes with an altitude gain of about 1,700 feet. O
 ur 50K runners will make two laps on the 25K course.\r\nThe 10K uses m
 any of the same trails, and includes all the views. And this park is g
 orgeous in the springtime.\n\nFor more information visit http://pikesp
 eaksports.us/events/cheyenne-mountain-trail-race-5
DTSTART:20220430T140000Z
DTEND:20220430T220000Z
CATEGORIES:ultra, run, 50k, 25k, 10k
LOCATION:Cheyenne Mountain State Park
WEBSITE:https://www.google.com/maps/place/Cheyenne+Mountain+State+Park
 /@38.7291548,-104.83288,15z/data=!4m5!3m4!1s0x0:0x2d6160d05a2ec181!8m2
 !3d38.7291548!4d-104.83288
URL:https://www.google.com/maps/place/Cheyenne+Mountain+State+Park/@38
 .7291548,-104.83288,15z/data=!4m5!3m4!1s0x0:0x2d6160d05a2ec181!8m2!3d3
 8.7291548!4d-104.83288
CONTACT:719-963-17747
ORGANIZER;CN="Tim Bergsten":http://pikespeaksports.us/profile/TimBergs
 ten
ATTACH;FMTTYPE="image/jpeg":https://storage.ning.com/topology/rest/1.0
 /file/get/10026977465?profile=original
ATTENDEE;ROLE=REQ-PARTICIPANT;PARTSTAT=ACCEPTED;RSVP=TRUE;CN="Tim Berg
 sten":http://pikespeaksports.us/profile/TimBergsten
END:VEVENT
END:VCALENDAR
