BEGIN:VCALENDAR
PRODID:NingEventWidget-v1
VERSION:2.0
METHOD:PUBLISH
BEGIN:VEVENT
UID:5021591:Event:1135
DTSTAMP:20260422T161834Z
SUMMARY:Cheyenne Canyon Hill Climb
DESCRIPTION:A 3.1-mile climb up Cheyenne Canyon. Ascending 1,250 ft, i
 t has a few pitches above 18% and has an average of 8.5%. Record up th
 is course is 13:34 by Tom Danielson.\n\nOn site registration opens at 
 7:30 and closes 30 minutes prior to each race.\n\nFrom North: On I-25 
 South towards Colorado Springs. Take the HWY 24/ W Cimarron St. Exit 1
 41. Turn left (west). In 1.5 miles turn left (south) on 21st St. Follo
 w for another 1.3 miles and Cheyenne Mountain High School is on the ri
 ght. Go another .2 miles and turn right on W Cheyenne Blvd. After 1 mi
 le the Starsmore Discovery Center is on the right 2120 North Cheyenne 
 Cañon Road, 80906.\n\nFor more information visit http://pikespeakspor
 ts.us/events/cheyenne-canyon-hill-climb
DTSTART:20100411T060000Z
DTEND:20100412T055900Z
CATEGORIES:road, cycling, race, hill, climb, time, trial
LOCATION:Cheyenne Canyon
WEBSITE:http://socovelo.com/racing/
URL:http://socovelo.com/racing/
CONTACT:
ORGANIZER:
ATTACH;FMTTYPE="image/jpeg":http://storage.ning.com/topology/rest/1.0/
 file/get/2842524102?profile=original
ATTENDEE;ROLE=REQ-PARTICIPANT;PARTSTAT=ACCEPTED;RSVP=TRUE;CN="Brian Mc
 Carrie":http://pikespeaksports.us/profile/virtualbrian
END:VEVENT
END:VCALENDAR
