BEGIN:VCALENDAR
PRODID:NingEventWidget-v1
VERSION:2.0
METHOD:PUBLISH
BEGIN:VEVENT
UID:5021591:Event:834437
DTSTAMP:20260422T160025Z
SUMMARY:TwoCor Cheap 5K and Flea Market Mile
DESCRIPTION:Here's your chance to run on one of the most interesting a
 nd unique 5K courses in the area PLUS get free access to the Colorado 
 Springs Flea Market for the day. The Flea Market hosts this annual eve
 nt to give people a chance to experience the Market and to help raise 
 awareness and funds for TwoCor. The entire course is on Flea Market pr
 operty and includes about 6 running surfaces. Stick around for a day a
 t the Market and FREE pancakes after the run!\r\n\r\nRun either the 5K
  or the 1-mile ... or both.\n\nFor more information visit http://pikes
 peaksports.us/events/cheap5k
DTSTART:20190901T143000Z
DTEND:20190901T160000Z
CATEGORIES:5k, 1-mile, trail, run
LOCATION:Colorado Springs Flea Market
WEBSITE:http://www.Cheap5k.com
URL:http://www.Cheap5k.com
CONTACT:
ORGANIZER:Bigwig Races
ATTACH;FMTTYPE="image/jpeg":
ATTENDEE;ROLE=REQ-PARTICIPANT;PARTSTAT=ACCEPTED;RSVP=TRUE;CN="Curtis C
 laar":http://pikespeaksports.us/profile/CurtisClaar
END:VEVENT
END:VCALENDAR
